Workbook
Name Liste_departements: 'Listes déroulantes'!$L$3
Name Liste_EPCI: 'Listes déroulantes'!$M$3:$M$428
Name Liste_regions: 'Listes déroulantes'!$K$3:$K$21

Sheet Calculette du quartile 2026
C1: Calcul du quartile de ressources LEC - Périmètre national -
C5: Note : les cases colorées et encadrées en gras sont destinées à être saisies (menus déroulants et/ou saisie manuelle) | O5: Réalisation : URH Hauts-de-France
O6: Mis à jour le 07 Août 2026
O7: Version 2026 - VF
C8: Texte de référence : Arrêté du 23 avril 2026 fixant le seuil de ressources des demandeurs de logement social du premier quartile de revenus mentionné à l'article L. 441-1 du code de la construction et de l'habitation. Parution au JORF du 2 mai 2026. | P8: Contact :
O9: Laëtitia DEKEN
O10: Data Analyst / Chargée d'études - URH Hauts-de-France | Z10: =IF(AND(C23<>"", C27<>"", C31<>""), UPPER(SUBSTITUTE(TRIM(C23), CHAR(160), " ")) & "|" & SUBSTITUTE(TRIM(C27), CHAR(160), " ") & "|" & SUBSTITUTE(TRIM(C31), CHAR(160), " "), "")
C11: https://www.legifrance.gouv.fr/jorf/id/JORFTEXT000054022378 | O11: l.deken@union-habitat.org
G13: =IF(C23="", "👉 Sélectionnez une région", IF(C27="", "👉 Sélectionnez un département", IF(C31="", "👉 Sélectionnez un EPCI", IF(E39=0, "⚠️ Erreur de territoire : la case 'Région' et/ou 'Département' a été modifiée et n'est plus compatible avec l'EPCI choisi", IF(SUM(L24:L27)=1, "👉 Indiquez la composition du ménage", IF(SUM(N24:N27)=0, "👉 Renseignez les ressources mensuelles", "✅ Toutes les informations ont été saisies. Consultez le résultat ci-dessous.")))))) -> 👉 Sélectionnez une région
C22: Sélectionner une région :
J23: Composition du ménage | L23: Personnes | M23: Nombre d'UC | N23: Ressources mensuelles
J24: Titulaire de la demande : | L24: 1 | M24: 1
J25: Co-titulaire : | M25: =L25*0.5 -> 0
C26: Sélectionner un département : | J26: Enfants âgés de 14 ans et plus : | M26: =L26*0.5 -> 0
J27: Enfants âgés de moins de 14 ans : | M27: =L27*0.3 -> 0
J28: TOTAL | L28: =SUM(L24:L27) -> 1 | M28: =SUM(M24:M27) -> 1 | N28: =SUM(N24:O27) -> 0
C30: Sélectionner un EPCI : | J30: Soit ressources mensuelles par unité de consommation (UC) : | N30: =IFERROR(N28/M28, "") -> 0
J32: Et ressources annuelles par unité de consommation (UC) : | N32: =IFERROR(N30*12, "") -> 0
C37: Montants des seuils 2026 :
E38: Annuel | F38: Mensuel
C39: Seuil de ressources Q1 de l'EPCI (/UC) : | E39: {=IFERROR( INDEX(Quartiles_2026!H:H, MATCH(1, (UPPER(TRIM(Quartiles_2026!A:A)) = UPPER(TRIM(C23))) * (TRIM(Quartiles_2026!C:C) = TRIM(C27)) * (TRIM(Quartiles_2026!D:D) = TRIM(C31)), 0) ), 0)} -> 0 | F39: {=IFERROR( INDEX(Quartiles_2026!K:K, MATCH(1, (UPPER(TRIM(Quartiles_2026!A:A)) = UPPER(TRIM(C23))) * (TRIM(Quartiles_2026!C:C) = TRIM(C27)) * (TRIM(Quartiles_2026!D:D) = TRIM(C31)), 0) ), 0)} -> 0 | I39: =IF(N28=0, "", "Ménage composé de" & IF(L24>0, " " & L24 & " titulaire" & IF(L24>1, "s de la demande", " de la demande"), "") & IF(AND(L25>0, L24>0), ", ", IF(L25>0, " ", "")) & IF(L25>0, L25 & " co-titulaire" & IF(L25>1, "s", ""), "") & IF(AND(L26>0, OR(L24>0,L25>0)), ", ", IF(L26>0, " ", "")) & IF(L26>0, L26 & " enfant" & IF(L26>1, "s", "") & " de 14 ans ou plus", "") & IF(AND(L27>0, OR(L24>0,L25>0,L26>0)), ", ", IF(L27>0, " ", "")) & IF(L27>0, L27 & " enfant" & IF(L27>1, "s", "") & " de moins de 14 ans", "") & CHAR(10) & "disposant de " & TEXT(N28,"# ##0 €") & " de ressources mensuelles," & CHAR(10) & "soit l’équivalent de " & TEXT(N28/M28,"# ##0 €") & " par unité de consommation.")
C40: Seuil de ressources Q2 de l'EPCI (/UC) : | E40: {=IFERROR(INDEX(Quartiles_2026!I:I, MATCH(1, (UPPER(TRIM(Quartiles_2026!A:A)) = UPPER(TRIM(C23))) * (TRIM(Quartiles_2026!C:C) = TRIM(C27)) * (TRIM(Quartiles_2026!D:D) = TRIM(C31)), 0)), 0)} -> 0 | F40: {=IFERROR(INDEX(Quartiles_2026!L:L, MATCH(1, (UPPER(TRIM(Quartiles_2026!A:A)) = UPPER(TRIM(C23))) * (TRIM(Quartiles_2026!C:C) = TRIM(C27)) * (TRIM(Quartiles_2026!D:D) = TRIM(C31)), 0)), 0)} -> 0
C41: Seuil de ressources Q3 de l'EPCI (/UC) : | E41: {=IFERROR(INDEX(Quartiles_2026!J:J, MATCH(1, (UPPER(TRIM(Quartiles_2026!A:A)) = UPPER(TRIM(C23))) * (TRIM(Quartiles_2026!C:C) = TRIM(C27)) * (TRIM(Quartiles_2026!D:D) = TRIM(C31)), 0)), 0)} -> 0 | F41: {=IFERROR(INDEX(Quartiles_2026!M:M, MATCH(1, (UPPER(TRIM(Quartiles_2026!A:A)) = UPPER(TRIM(C23))) * (TRIM(Quartiles_2026!C:C) = TRIM(C27)) * (TRIM(Quartiles_2026!D:D) = TRIM(C31)), 0)), 0)} -> 0
C42: Si l'EPCI recherché ne se trouve pas dans cette liste, celui-ci n'est pas concerné par l'obligation d'attribuer 25 % des logements hors QPV aux ménages du premier quartile en 2026. | K42: =IF(N30=0, "", IF(N30<=F39, "Ménage appartenant au 1er quartile", IF(N30<=F40, "Ménage appartenant au 2ème quartile", IF(N30<=F41, "Ménage appartenant au 3ème quartile", "Ménage appartenant au 4ème quartile"))))

Sheet Quartiles_2026
A1: Région | B1: Libellé Département | C1: Département | D1: Nom de l'EPCI | E1: SIRET de l'EPCI | F1: Année de référence | G1: EPCI concerné par l'obligation ? | H1: Q1 annuel | I1: Q2 annuel | J1: Q3 annuel | K1: Q1 mensuul | L1: Q2 mensuel | M1: Q3 mensuel | N1: Clé | O1: Zone
A2: Auvergne-Rhône-Alpes | B2: =MID(C2,6,LEN(C2)) -> Ain | C2: 01 - Ain | D2: CA du Bassin de Bourg-en-Bresse | E2: 200071751 | F2: 2026 | G2: oui | H2: 11168 | I2: 15276 | J2: 20380 | K2: =ROUND(H2/12,0) -> 931 | L2: =ROUND(I2/12,0) -> 1273 | M2: =ROUND(J2/12,0) -> 1698 | N2: =SUBSTITUTE( UPPER(SUBSTITUTE(TRIM(A2), CHAR(160), " ")) & "|" & SUBSTITUTE(TRIM(C2), CHAR(160), " ") & "|" & SUBSTITUTE(TRIM(D2), CHAR(160), " "), "–", "-" ) -> AUVERGNE-RHÔNE-ALPES|01 - Ain|CA du Bassin de Bourg-en-Bresse | O2: =IF(A2="Hauts-de-France", "HDF", IF(A2="Île-de-France", "IDF", IF(OR(A2="Guadeloupe", A2="Martinique", A2="Guyane", A2="La Réunion", A2="Mayotte"), "OM", "Province"))) -> Province
A3: Auvergne-Rhône-Alpes | B3: =MID(C3,6,LEN(C3)) -> Ain | C3: 01 - Ain | D3: CA du Pays de Gex | E3: 240100750 | F3: 2026 | G3: oui | H3: 12058 | I3: 18553 | J3: 25200 | K3: =ROUND(H3/12,0) -> 1005 | L3: =ROUND(I3/12,0) -> 1546 | M3: =ROUND(J3/12,0) -> 2100 | N3: =SUBSTITUTE( UPPER(SUBSTITUTE(TRIM(A3), CHAR(160), " ")) & "|" & SUBSTITUTE(TRIM(C3), CHAR(160), " ") & "|" & SUBSTITUTE(TRIM(D3), CHAR(160), " "), "–", "-" ) -> AUVERGNE-RHÔNE-ALPES|01 - Ain|CA du Pays de Gex | O3: =IF(A3="Hauts-de-France", "HDF", IF(A3="Île-de-France", "IDF", IF(OR(A3="Guadeloupe", A3="Martinique", A3="Guyane", A3="La Réunion", A3="Mayotte"), "OM", "Province"))) -> Province
A4: Auvergne-Rhône-Alpes | B4: =MID(C4,6,LEN(C4)) -> Ain | C4: 01 - Ain | D4: CA Haut-Bugey Agglomération | E4: 200042935 | F4: 2026 | G4: oui | H4: 10658 | I4: 15097 | J4: 20400 | K4: =ROUND(H4/12,0) -> 888 | L4: =ROUND(I4/12,0) -> 1258 | M4: =ROUND(J4/12,0) -> 1700 | N4: =SUBSTITUTE( UPPER(SUBSTITUTE(TRIM(A4), CHAR(160), " ")) & "|" & SUBSTITUTE(TRIM(C4), CHAR(160), " ") & "|" & SUBSTITUTE(TRIM(D4), CHAR(160), " "), "–", "-" ) -> AUVERGNE-RHÔNE-ALPES|01 - Ain|CA Haut-Bugey Agglomération | O4: =IF(A4="Hauts-de-France", "HDF", IF(A4="Île-de-France", "IDF", IF(OR(A4="Guadeloupe", A4="Martinique", A4="Guyane", A4="La Réunion", A4="Mayotte"), "OM", "Province"))) -> Province
A5: Auvergne-Rhône-Alpes | B5: =MID(C5,6,LEN(C5)) -> Ain | C5: 01 - Ain | D5: CA Mâconnais Beaujolais Agglomération | E5: 200070308 | F5: 2026 | G5: oui | H5: 10054 | I5: 14004 | J5: 19200 | K5: =ROUND(H5/12,0) -> 838 | L5: =ROUND(I5/12,0) -> 1167 | M5: =ROUND(J5/12,0) -> 1600 | N5: =SUBSTITUTE( UPPER(SUBSTITUTE(TRIM(A5), CHAR(160), " ")) & "|" & SUBSTITUTE(TRIM(C5), CHAR(160), " ") & "|" & SUBSTITUTE(TRIM(D5), CHAR(160), " "), "–", "-" ) -> AUVERGNE-RHÔNE-ALPES|01 - Ain|CA Mâconnais Beaujolais Agglomération | O5: =IF(A5="Hauts-de-France", "HDF", IF(A5="Île-de-France", "IDF", IF(OR(A5="Guadeloupe", A5="Martinique", A5="Guyane", A5="La Réunion", A5="Mayotte"), "OM", "Province"))) -> Province
A6: Auvergne-Rhône-Alpes | B6: =MID(C6,6,LEN(C6)) -> Ain | C6: 01 - Ain | D6: CA Villefranche Beaujolais Saône | E6: 200040590 | F6: 2026 | G6: oui | H6: 10074 | I6: 14346 | J6: 19453 | K6: =ROUND(H6/12,0) -> 840 | L6: =ROUND(I6/12,0) -> 1196 | M6: =ROUND(J6/12,0) -> 1621 | N6: =SUBSTITUTE( UPPER(SUBSTITUTE(TRIM(A6), CHAR(160), " ")) & "|" & SUBSTITUTE(TRIM(C6), CHAR(160), " ") & "|" & SUBSTITUTE(TRIM(D6), CHAR(160), " "), "–", "-" ) -> AUVERGNE-RHÔNE-ALPES|01 - Ain|CA Villefranche Beaujolais Saône | O6: =IF(A6="Hauts-de-France", "HDF", IF(A6="Île-de-France", "IDF", IF(OR(A6="Guadeloupe", A6="Martinique", A6="Guyane", A6="La Réunion", A6="Mayotte"), "OM", "Province"))) -> Province
A7: Auvergne-Rhône-Alpes | B7: =MID(C7,6,LEN(C7)) -> Ain | C7: 01 - Ain | D7: CC Bugey Sud | E7: 200040350 | F7: 2026 | G7: oui | H7: 11028 | I7: 14400 | J7: 19413 | K7: =ROUND(H7/12,0) -> 919 | L7: =ROUND(I7/12,0) -> 1200 | M7: =ROUND(J7/12,0) -> 1618 | N7: =SUBSTITUTE( UPPER(SUBSTITUTE(TRIM(A7), CHAR(160), " ")) & "|" & SUBSTITUTE(TRIM(C7), CHAR(160), " ") & "|" & SUBSTITUTE(TRIM(D7), CHAR(160), " "), "–", "-" ) -> AUVERGNE-RHÔNE-ALPES|01 - Ain|CC Bugey Sud | O7: =IF(A7="Hauts-de-France", "HDF", IF(A7="Île-de-France", "IDF", IF(OR(A7="Guadeloupe", A7="Martinique", A7="Guyane", A7="La Réunion", A7="Mayotte"), "OM", "Province"))) -> Province
A8: Auvergne-Rhône-Alpes | B8: =MID(C8,6,LEN(C8)) -> Ain | C8: 01 - Ain | D8: CC de la Côtière à Montluel | E8: 240100610 | F8: 2026 | G8: oui | H8: 12123 | I8: 17372 | J8: 22198 | K8: =ROUND(H8/12,0) -> 1010 | L8: =ROUND(I8/12,0) -> 1448 | M8: =ROUND(J8/12,0) -> 1850 | N8: =SUBSTITUTE( UPPER(SUBSTITUTE(TRIM(A8), CHAR(160), " ")) & "|" & SUBSTITUTE(TRIM(C8), CHAR(160), " ") & "|" & SUBSTITUTE(TRIM(D8), CHAR(160), " "), "–", "-" ) -> AUVERGNE-RHÔNE-ALPES|01 - Ain|CC de la Côtière à Montluel | O8: =IF(A8="Hauts-de-France", "HDF", IF(A8="Île-de-France", "IDF", IF(OR(A8="Guadeloupe", A8="Martinique", A8="Guyane", A8="La Réunion", A8="Mayotte"), "OM", "Province"))) -> Province
A9: Auvergne-Rhône-Alpes | B9: =MID(C9,6,LEN(C9)) -> Ain | C9: 01 - Ain | D9: CC de la Plaine de l'Ain | E9: 240100883 | F9: 2026 | G9: oui | H9: 11561 | I9: 15640 | J9: 20710 | K9: =ROUND(H9/12,0) -> 963 | L9: =ROUND(I9/12,0) -> 1303 | M9: =ROUND(J9/12,0) -> 1726 | N9: =SUBSTITUTE( UPPER(SUBSTITUTE(TRIM(A9), CHAR(160), " ")) & "|" & SUBSTITUTE(TRIM(C9), CHAR(160), " ") & "|" & SUBSTITUTE(TRIM(D9), CHAR(160), " "), "–", "-" ) -> AUVERGNE-RHÔNE-ALPES|01 - Ain|CC de la Plaine de l'Ain | O9: =IF(A9="Hauts-de-France", "HDF", IF(A9="Île-de-France", "IDF", IF(OR(A9="Guadeloupe", A9="Martinique", A9="Guyane", A9="La Réunion", A9="Mayotte"), "OM", "Province"))) -> Province
A10: Auvergne-Rhône-Alpes | B10: =MID(C10,6,LEN(C10)) -> Allier | C10: 03 - Allier | D10: CA Montluçon Communauté | E10: 200071082 | F10: 2026 | G10: oui | H10: 8673 | I10: 12180 | J10: 16528 | K10: =ROUND(H10/12,0) -> 723 | L10: =ROUND(I10/12,0) -> 1015 | M10: =ROUND(J10/12,0) -> 1377 | N10: =SUBSTITUTE( UPPER(SUBSTITUTE(TRIM(A10), CHAR(160), " ")) & "|" & SUBSTITUTE(TRIM(C10), CHAR(160), " ") & "|" & SUBSTITUTE(TRIM(D10), CHAR(160), " "), "–", "-" ) -> AUVERGNE-RHÔNE-ALPES|03 - Allier|CA Montluçon Communauté | O10: =IF(A10="Hauts-de-France", "HDF", IF(A10="Île-de-France", "IDF", IF(OR(A10="Guadeloupe", A10="Martinique", A10="Guyane", A10="La Réunion", A10="Mayotte"), "OM", "Province"))) -> Province
A11: Auvergne-Rhône-Alpes | B11: =MID(C11,6,LEN(C11)) -> Allier | C11: 03 - Allier | D11: CA Moulins Communauté | E11: 200071140 | F11: 2026 | G11: oui | H11: 9332 | I11: 12818 | J11: 17778 | K11: =ROUND(H11/12,0) -> 778 | L11: =ROUND(I11/12,0) -> 1068 | M11: =ROUND(J11/12,0) -> 1482 | N11: =SUBSTITUTE( UPPER(SUBSTITUTE(TRIM(A11), CHAR(160), " ")) & "|" & SUBSTITUTE(TRIM(C11), CHAR(160), " ") & "|" & SUBSTITUTE(TRIM(D11), CHAR(160), " "), "–", "-" ) -> AUVERGNE-RHÔNE-ALPES|03 - Allier|CA Moulins Communauté | O11: =IF(A11="Hauts-de-France", "HDF", IF(A11="Île-de-France", "IDF", IF(OR(A11="Guadeloupe", A11="Martinique", A11="Guyane", A11="La Réunion", A11="Mayotte"), "OM", "Province"))) -> Province
A12: Auvergne-Rhône-Alpes | B12: =MID(C12,6,LEN(C12)) -> Allier | C12: 03 - Allier | D12: CA Vichy Communauté | E12: 200071363 | F12: 2026 | G12: oui | H12: 9013 | I12: 13120 | J12: 18057 | K12: =ROUND(H12/12,0) -> 751 | L12: =ROUND(I12/12,0) -> 1093 | M12: =ROUND(J12/12,0) -> 1505 | N12: =SUBSTITUTE( UPPER(SUBSTITUTE(TRIM(A12), CHAR(160), " ")) & "|" & SUBSTITUTE(TRIM(C12), CHAR(160), " ") & "|" & SUBSTITUTE(TRIM(D12), CHAR(160), " "), "–", "-" ) -> AUVERGNE-RHÔNE-ALPES|03 - Allier|CA Vichy Communauté | O12: =IF(A12="Hauts-de-France", "HDF", IF(A12="Île-de-France", "IDF", IF(OR(A12="Guadeloupe", A12="Martinique", A12="Guyane", A12="La Réunion", A12="Mayotte"), "OM", "Province"))) -> Province
A13: Auvergne-Rhône-Alpes | B13: =MID(C13,6,LEN(C13)) -> Ardèche | C13: 07 - Ardèche | D13: CA Annonay Rhône Agglo | E13: 200072015 | F13: 2026 | G13: oui | H13: 10428 | I13: 13884 | J13: 19440 | K13: =ROUND(H13/12,0) -> 869 | L13: =ROUND(I13/12,0) -> 1157 | M13: =ROUND(J13/12,0) -> 1620 | N13: =SUBSTITUTE( UPPER(SUBSTITUTE(TRIM(A13), CHAR(160), " ")) & "|" & SUBSTITUTE(TRIM(C13), CHAR(160), " ") & "|" & SUBSTITUTE(TRIM(D13), CHAR(160), " "), "–", "-" ) -> AUVERGNE-RHÔNE-ALPES|07 - Ardèche|CA Annonay Rhône Agglo | O13: =IF(A13="Hauts-de-France", "HDF", IF(A13="Île-de-France", "IDF", IF(OR(A13="Guadeloupe", A13="Martinique", A13="Guyane", A13="La Réunion", A13="Mayotte"), "OM", "Province"))) -> Province
... A463: Provence-Alpes-Côte d'Azur | B463: =MID(C463,6,LEN(C463)) -> Vaucluse | C463: 84 - Vaucluse | D463: Pays d'Orange en Provence | E463: 248400236 | F463: 2026 | G463: oui | H463: 9122 | I463: 12659 | J463: 17759 | K463: =ROUND(H463/12,0) -> 760 | L463: =ROUND(I463/12,0) -> 1055 | M463: =ROUND(J463/12,0) -> 1480 | N463: =SUBSTITUTE( UPPER(SUBSTITUTE(TRIM(A463), CHAR(160), " ")) & "|" & SUBSTITUTE(TRIM(C463), CHAR(160), " ") & "|" & SUBSTITUTE(TRIM(D463), CHAR(160), " "), "–", "-" ) -> PROVENCE-ALPES-CÔTE D'AZUR|84 - Vaucluse|Pays d'Orange en Provence | O463: =IF(A463="Hauts-de-France", "HDF", IF(A463="Île-de-France", "IDF", IF(OR(A463="Guadeloupe", A463="Martinique", A463="Guyane", A463="La Réunion", A463="Mayotte"), "OM", "Province"))) -> Province

Sheet Listes déroulantes
K1: Régions | L1: Départements | M1: EPCI
K3: {=_xlfn.UNIQUE(_xlfn._xlws.SORT(UPPER(_xlfn._xlws.FILTER(QUARTILES_2026[Région], QUARTILES_2026[Région]<>""))))} -> AUVERGNE-RHÔNE-ALPES | L3: {=IF(ISTEXT($B$7)=FALSE, _xlfn.UNIQUE(_xlfn._xlws.SORT(Quartiles_2026!C2:C463)), _xlfn.UNIQUE(_xlfn._xlws.SORT(_xlfn._xlws.FILTER( Quartiles_2026!C2:C463, ISNUMBER(SEARCH(TRIM($B$7), TRIM(Quartiles_2026!A2:A463))) ))) )} -> 01 - Ain | M3: {=IF(ISTEXT($C$7)=FALSE, _xlfn.UNIQUE(_xlfn._xlws.SORT(Quartiles_2026!D:D)), _xlfn.UNIQUE(_xlfn._xlws.SORT(_xlfn._xlws.FILTER( Quartiles_2026!D:D, TRIM(Quartiles_2026!C:C) = TRIM($C$7) ))) )} -> Agglomération du Grand Longwy
K4: BOURGOGNE-FRANCHE-COMTÉ | L4: 02 - Aisne | M4: Ardenne Métropole
B5: Références aux filtres de la feuille "Calculette de quartile" | K5: BRETAGNE | L5: 03 - Allier | M5: Aurillac Agglomération
B6: Région | C6: Département | D6: EPCI | K6: CENTRE-VAL DE LOIRE | L6: 04 - Alpes-de-Haute-Provence | M6: Bordeaux Métropole
B7: ='Calculette du quartile 2026'!C23 -> 0 | C7: ='Calculette du quartile 2026'!C27 -> 0 | D7: ='Calculette du quartile 2026'!C31 -> 0 | K7: CORSE | L7: 05 - Hautes-Alpes | M7: Boucle Nord de Seine
K8: GRAND EST | L8: 06 - Alpes-Maritimes | M8: Brest Métropole
K9: GUADELOUPE | L9: 07 - Ardèche | M9: CA "Saintes - Grandes Rives - L'Agglo"
K10: GUYANE | L10: 08 - Ardennes | M10: CA Agglo du Pays de Dreux
K11: HAUTS-DE-FRANCE | L11: 09 - Ariège | M11: CA Agglo Pays d'Issoire
K12: ÎLE-DE-FRANCE | L12: 10 - Aube | M12: CA Agglomération d'Agen
K13: LA RÉUNION | L13: 11 - Aude | M13: CA Alès Agglomération
K14: MARTINIQUE | L14: 12 - Aveyron | M14: CA Amiens Métropole
K15: MAYOTTE | L15: 13 - Bouches-du-Rhône | M15: CA Annemasse-Les Voirons-Agglomération
K16: NORMANDIE | L16: 14 - Calvados | M16: CA Annonay Rhône Agglo
K17: NOUVELLE-AQUITAINE | L17: 15 - Cantal | M17: CA Arche Agglo
K18: OCCITANIE | L18: 16 - Charente | M18: CA Arlysère
K19: PAYS DE LA LOIRE | L19: 17 - Charente-Maritime | M19: CA Bassin d'Arcachon Sud (COBAS)
K20: PROVENCE-ALPES-CÔTE D'AZUR | L20: 18 - Cher | M20: CA Beaune, Côte et Sud - Communauté Beaune-Chagny-Nolay
L21: 19 - Corrèze | M21: CA Bergeracoise
L22: 21 - Côte-d'Or | M22: CA Bourges Plus
L23: 22 - Côtes-d'Armor | M23: CA Cannes Pays de Lérins
L24: 23 - Creuse | M24: CA CAP Excellence
L25: 24 - Dordogne | M25: CA Carcassonne Agglo
L26: 25 - Doubs | M26: CA Caux Seine Agglo
L27: 26 - Drôme | M27: CA Chartres Métropole
L28: 27 - Eure | M28: CA Châteauroux Métropole
L29: 28 - Eure-et-Loir | M29: CA Chauny Tergnier La Fère
L30: 29 - Finistère | M30: CA Cholet Agglomération
L31: 2A - Corse-du-Sud | M31: CA CIVIS (Communauté Intercommunale des Villes Solidaires)
L32: 2B - Haute-Corse | M32: CA Clisson Sèvre et Maine Agglo
... L103: 97 - -Mayotte | M103: CA du Grand Saint-Dizier Der et Vallées
M104: CA du Grand Sénonais
M105: CA du Grand Verdun
M106: CA du Grand Villeneuvois
M107: CA du Libournais
M108: CA du Niortais
M109: CA du Nord Basse-Terre
M110: CA du Nord Grande Terre
M111: CA du Pays Ajaccien
...
